BEGIN:VCALENDAR
VERSION:2.0
PRODID:-//ChamberMaster//Event Calendar 2.0//EN
METHOD:PUBLISH
X-PUBLISHED-TTL:P3D
REFRESH-INTERVAL:P3D
CALSCALE:GREGORIAN
BEGIN:VEVENT
DTSTART:20181201T140000Z
DTEND:20181201T170000Z
X-MICROSOFT-CDO-ALLDAYEVENT:FALSE
SUMMARY:Pancakes with Santa
DESCRIPTION:Pancakes with Santa will be held at the Paris First Methodist Church on Dec 1st. Contact The Call for more information:\nThe CALL in Logan and Scott Counties\n\nP.O. Box 301\n\nBooneville\, AR 72927\n\n479-206-2212
X-ALT-DESC;FMTTYPE=text/html:Pancakes with Santa will be held at the Paris First Methodist Church on Dec 1st. Contact The Call for more information:\n<p style="margin-top: 0px\; margin-bottom: 0px\; font-family: Calibri\, Helvetica\, sans-serif\, Helvetica\, EmojiFont\, &quot\;Apple Color Emoji&quot\;\, &quot\;Segoe UI Emoji&quot\;\, NotoColorEmoji\, &quot\;Segoe UI Symbol&quot\;\, &quot\;Android Emoji&quot\;\, EmojiSymbols\; font-size: 16px\; background-color: rgb(255\, 255\, 255)\;">The CALL in Logan and Scott Counties</p>\n\n<p style="margin-top: 0px\; margin-bottom: 0px\; font-family: Calibri\, Helvetica\, sans-serif\, Helvetica\, EmojiFont\, &quot\;Apple Color Emoji&quot\;\, &quot\;Segoe UI Emoji&quot\;\, NotoColorEmoji\, &quot\;Segoe UI Symbol&quot\;\, &quot\;Android Emoji&quot\;\, EmojiSymbols\; font-size: 16px\; background-color: rgb(255\, 255\, 255)\;">P.O. Box 301</p>\n\n<p style="margin-top: 0px\; margin-bottom: 0px\; font-family: Calibri\, Helvetica\, sans-serif\, Helvetica\, EmojiFont\, &quot\;Apple Color Emoji&quot\;\, &quot\;Segoe UI Emoji&quot\;\, NotoColorEmoji\, &quot\;Segoe UI Symbol&quot\;\, &quot\;Android Emoji&quot\;\, EmojiSymbols\; font-size: 16px\; background-color: rgb(255\, 255\, 255)\;">Booneville\, AR 72927</p>\n\n<p style="margin-top: 0px\; margin-bottom: 0px\; font-family: Calibri\, Helvetica\, sans-serif\, Helvetica\, EmojiFont\, &quot\;Apple Color Emoji&quot\;\, &quot\;Segoe UI Emoji&quot\;\, NotoColorEmoji\, &quot\;Segoe UI Symbol&quot\;\, &quot\;Android Emoji&quot\;\, EmojiSymbols\; font-size: 16px\; background-color: rgb(255\, 255\, 255)\;">479-206-2212</p>\n
LOCATION:Methodist Church-Paris
UID:e.2208.2266
SEQUENCE:3
DTSTAMP:20260420T131940Z
URL:https://business.parisarkansas.com/events/details/pancakes-with-santa-2266
END:VEVENT

END:VCALENDAR
