BEGIN:VCALENDAR
VERSION:2.0
PRODID:-//ChamberMaster//Event Calendar 2.0//EN
METHOD:PUBLISH
X-PUBLISHED-TTL:P3D
REFRESH-INTERVAL:P3D
CALSCALE:GREGORIAN
BEGIN:VEVENT
DTSTART:20150521T160000Z
DTEND:20150521T180000Z
X-MICROSOFT-CDO-ALLDAYEVENT:FALSE
SUMMARY:PACK Stakeholders meeting
DESCRIPTION:Public invited to attend the monthly meeting of Paris area citizens. There will be break out sessions to discuss the 5 year strategic  plan.
X-ALT-DESC;FMTTYPE=text/html:Public invited to attend the monthly meeting of Paris area citizens. There will be break out sessions to discuss the 5 year strategic&nbsp\;&nbsp\;plan.&nbsp\;
LOCATION:1st National Bank Community Center (behind bank)
UID:e.2208.730
SEQUENCE:3
DTSTAMP:20260423T080105Z
URL:https://business.parisarkansas.com/events/details/pack-stakeholders-meeting-05-21-2015-730
END:VEVENT

END:VCALENDAR
