BEGIN:VCALENDAR
VERSION:2.0
PRODID:-//ChamberMaster//Event Calendar 2.0//EN
METHOD:PUBLISH
X-PUBLISHED-TTL:P3D
REFRESH-INTERVAL:P3D
CALSCALE:GREGORIAN
BEGIN:VEVENT
DTSTART:20150414T190000Z
DTEND:20150414T190000Z
X-MICROSOFT-CDO-ALLDAYEVENT:FALSE
SUMMARY:Open House
DESCRIPTION:Save The Children Paris Head Start (formally Community Development Institute) will have an Open House for Head Start families and open to the public. Come find out more about your local Head Start program.
X-ALT-DESC;FMTTYPE=text/html:Save The Children Paris Head Start (formally Community Development Institute) will have an Open House for Head Start families and open to the public. Come find out more about your local Head Start program.
LOCATION:200 West Academy Paris
UID:e.2208.724
SEQUENCE:3
DTSTAMP:20260423T113811Z
URL:https://business.parisarkansas.com/events/details/open-house-04-14-2015-724
END:VEVENT

END:VCALENDAR
