BEGIN:VCALENDAR
VERSION:2.0
PRODID:-//ChamberMaster//Event Calendar 2.0//EN
METHOD:PUBLISH
X-PUBLISHED-TTL:P3D
REFRESH-INTERVAL:P3D
CALSCALE:GREGORIAN
BEGIN:VEVENT
DTSTART:20180814T130000Z
DTEND:20180819T020000Z
X-MICROSOFT-CDO-ALLDAYEVENT:FALSE
SUMMARY:North Logan County Fair
DESCRIPTION:County Fair & Carnival
X-ALT-DESC;FMTTYPE=text/html:County Fair &amp\; Carnival
LOCATION:Hwy 22 East & Airport Industrial Road - Paris\, AR
UID:e.2208.2260
SEQUENCE:3
DTSTAMP:20260420T180909Z
URL:https://business.parisarkansas.com/events/details/north-logan-county-fair-2260
END:VEVENT

END:VCALENDAR
