BEGIN:VCALENDAR
VERSION:2.0
PRODID:-//ChamberMaster//Event Calendar 2.0//EN
METHOD:PUBLISH
X-PUBLISHED-TTL:P3D
REFRESH-INTERVAL:P3D
CALSCALE:GREGORIAN
BEGIN:VEVENT
DTSTART;VALUE=DATE:20150213
DTEND;VALUE=DATE:20150214
TRANSP:TRANSPARENT
X-MICROSOFT-CDO-ALLDAYEVENT:TRUE
SUMMARY:No School/ Winter break
DESCRIPTION:Winter break
X-ALT-DESC;FMTTYPE=text/html:Winter break&nbsp\;&nbsp\;&nbsp\;&nbsp\;
LOCATION:
UID:e.2208.165
SEQUENCE:3
DTSTAMP:20260423T162118Z
URL:https://business.parisarkansas.com/events/details/no-school-winter-break-02-13-2015-165
END:VEVENT

END:VCALENDAR
