BEGIN:VCALENDAR
VERSION:2.0
PRODID:-//ChamberMaster//Event Calendar 2.0//EN
METHOD:PUBLISH
X-PUBLISHED-TTL:P3D
REFRESH-INTERVAL:P3D
CALSCALE:GREGORIAN
BEGIN:VEVENT
DTSTART:20150329T180000Z
DTEND:20150329T210000Z
X-MICROSOFT-CDO-ALLDAYEVENT:FALSE
SUMMARY:My Sisters closet(Free Prom dress event)
DESCRIPTION:Can't afford a prom dress? Maybe you need shoes or jewelry? Stop by and see the beautiful selection of gently worn dresses in many sizes that will be given away to any girl in need.
X-ALT-DESC;FMTTYPE=text/html:Can&#39\;t afford a prom dress? Maybe you need shoes or jewelry? Stop by and see the beautiful selection of gently worn dresses in many sizes that will be given away to any girl in need.&nbsp\;
LOCATION:Island Cowgirl @ 18 W Walnut Paris\, AR (ONE THE SQUARE0
UID:e.2208.259
SEQUENCE:3
DTSTAMP:20260423T150635Z
URL:https://business.parisarkansas.com/events/details/my-sisters-closet-free-prom-dress-event-03-29-2015-259
END:VEVENT

END:VCALENDAR
