BEGIN:VCALENDAR
VERSION:2.0
PRODID:-//ChamberMaster//Event Calendar 2.0//EN
METHOD:PUBLISH
X-PUBLISHED-TTL:P3D
REFRESH-INTERVAL:P3D
CALSCALE:GREGORIAN
BEGIN:VEVENT
DTSTART:20150822T230000Z
DTEND:20150823T010000Z
X-MICROSOFT-CDO-ALLDAYEVENT:FALSE
SUMMARY:Movie in the Park
DESCRIPTION:Arvest Bank and The Paris Area Chamber of Commerce would like to invite you to a free family movie in the park night. Featuring 101 Dalmatians and FREE hot dogs\, water and popcorn. Bring your lawn chair or blanket and enjoy a night with the family.
X-ALT-DESC;FMTTYPE=text/html:Arvest&nbsp\;Bank and The Paris Area Chamber of Commerce would like to invite you to a free family movie in the park night. Featuring 101 Dalmatians and FREE hot dogs\, water and popcorn. Bring your lawn chair or blanket and enjoy a night with the family.
LOCATION:Wood Street Park (across from Paris High School)
UID:e.2208.743
SEQUENCE:3
DTSTAMP:20260423T034647Z
URL:https://business.parisarkansas.com/events/details/movie-in-the-park-08-22-2015-743
END:VEVENT

END:VCALENDAR
