BEGIN:VCALENDAR
VERSION:2.0
PRODID:-//ChamberMaster//Event Calendar 2.0//EN
METHOD:PUBLISH
X-PUBLISHED-TTL:P3D
REFRESH-INTERVAL:P3D
CALSCALE:GREGORIAN
BEGIN:VEVENT
DTSTART:20151023T230000Z
DTEND:20151024T010000Z
X-MICROSOFT-CDO-ALLDAYEVENT:FALSE
SUMMARY:Mercy Clinic Primary Care- Paris Open House
DESCRIPTION:Mercy Clinic is pleased to announce the grand opening of Mercy Clinic Primary Care- Paris. We hope you will join us at a ribbon cutting/open house event as we celebrate our new clinic. There will be food and fun. You will also be able to meet our Paris clinic provider\, Rachelle Hunt\, APRN.
X-ALT-DESC;FMTTYPE=text/html:Mercy Clinic is pleased to announce the grand opening of Mercy Clinic Primary Care- Paris. We hope you will join us at a ribbon cutting/open house event as we celebrate our new clinic. There will be food and fun. You will also be able to meet our Paris clinic provider\, Rachelle Hunt\, APRN.
LOCATION:500 E. Academy - Paris\, AR (located at the North end of the Mercy Hospital Paris campus- opposite end of the Emergency Department)
UID:e.2208.960
SEQUENCE:3
DTSTAMP:20260423T020458Z
URL:https://business.parisarkansas.com/events/details/mercy-clinic-primary-care-paris-open-house-10-23-2015-960
END:VEVENT

END:VCALENDAR
