BEGIN:VCALENDAR
VERSION:2.0
PRODID:-//ChamberMaster//Event Calendar 2.0//EN
METHOD:PUBLISH
X-PUBLISHED-TTL:P3D
REFRESH-INTERVAL:P3D
CALSCALE:GREGORIAN
BEGIN:VEVENT
DTSTART:20151030T190000Z
DTEND:20151030T210000Z
X-MICROSOFT-CDO-ALLDAYEVENT:FALSE
SUMMARY:Merchants Trick-o-Treat
DESCRIPTION:Join participating merchants at their candy stops all over town for Merchants Trick-o-Treat in Paris! This is an opportunity for merchants to give back to their customers by offering a safe place for children to trick-o-treat. Come dressed up and bring your candy bucket because the area businesses are waiting to serve you from 3pm to 5pm on Friday October 30th!
X-ALT-DESC;FMTTYPE=text/html:Join participating merchants at their candy stops all over town for Merchants Trick-o-Treat in Paris! This is an opportunity for merchants to give back to their customers by offering a safe place for children to trick-o-treat. Come dressed up and bring your candy bucket because the area businesses are waiting to serve you from 3pm to 5pm on Friday October 30th!
LOCATION:Start at the court house square and watch for candy stop signs all over town!
UID:e.2208.961
SEQUENCE:3
DTSTAMP:20260423T020449Z
URL:https://business.parisarkansas.com/events/details/merchants-trick-o-treat-10-30-2015-961
END:VEVENT

END:VCALENDAR
