BEGIN:VCALENDAR
VERSION:2.0
PRODID:-//ChamberMaster//Event Calendar 2.0//EN
METHOD:PUBLISH
X-PUBLISHED-TTL:P3D
REFRESH-INTERVAL:P3D
CALSCALE:GREGORIAN
BEGIN:VEVENT
DTSTART:20150525T000000Z
DTEND:20150525T020000Z
X-MICROSOFT-CDO-ALLDAYEVENT:FALSE
SUMMARY:Memorial Day Weekend Cookout & Music
DESCRIPTION:Join us at Mount Magazine State Park Lodge for a cookout with live music! We'll have the Southern Rhythm Band playing from 5 - 7 p.m. on the lodge terrace. Meals can be enjoyed indoors or outdoors at the Skycrest Restaurant. If your feet start tapping\, you can get up and dance on the terrace! The restaurant will be serving a BBQ buffet with ribs and all the trimmings\, complete with a selection of delicious desserts for $13.95. If you're craving a bite of smokey\, mouthwatering cook out tradition\, they will also be grilling hot dogs and hamburgers on the patio.
X-ALT-DESC;FMTTYPE=text/html:Join us at Mount Magazine State Park Lodge for a cookout with live music! We&#39\;ll have the Southern Rhythm Band playing from 5 - 7 p.m. on the lodge terrace. Meals can be enjoyed indoors or outdoors at the Skycrest Restaurant. If your feet start tapping\, you can get up and dance on the terrace! The restaurant will be serving a BBQ buffet with ribs and all the trimmings\, complete with a selection of delicious desserts for $13.95. If you&#39\;re craving a bite of smokey\, mouthwatering cook out tradition\, they will also be grilling hot dogs and hamburgers on the patio.
LOCATION:Mount Magazine State Park's Skycrest Restaurant
UID:e.2208.739
SEQUENCE:3
DTSTAMP:20260423T095442Z
URL:https://business.parisarkansas.com/events/details/memorial-day-weekend-cookout-music-05-24-2015-739
END:VEVENT

END:VCALENDAR
