BEGIN:VCALENDAR
VERSION:2.0
PRODID:-//ChamberMaster//Event Calendar 2.0//EN
METHOD:PUBLISH
X-PUBLISHED-TTL:P3D
REFRESH-INTERVAL:P3D
CALSCALE:GREGORIAN
BEGIN:VEVENT
DTSTART:20160627T160000Z
DTEND:20160627T170000Z
X-MICROSOFT-CDO-ALLDAYEVENT:FALSE
SUMMARY:Magical Balloon Guy
DESCRIPTION:Laugh out loud comedy\, amazing balloon twisting and mind boggling magic performed by Rob Holladay.
X-ALT-DESC;FMTTYPE=text/html:Laugh out loud comedy\, amazing balloon twisting and mind boggling magic performed by Rob Holladay.
LOCATION:Gattis Logan County Library 100 E Academy Paris AR
UID:e.2208.1460
SEQUENCE:3
DTSTAMP:20260422T122526Z
URL:https://business.parisarkansas.com/events/details/magical-balloon-guy-06-27-2016-1460
END:VEVENT

END:VCALENDAR
