BEGIN:VCALENDAR
VERSION:2.0
PRODID:-//ChamberMaster//Event Calendar 2.0//EN
METHOD:PUBLISH
X-PUBLISHED-TTL:P3D
REFRESH-INTERVAL:P3D
CALSCALE:GREGORIAN
BEGIN:VEVENT
DTSTART:20160924T230000Z
DTEND:20160925T030000Z
X-MICROSOFT-CDO-ALLDAYEVENT:FALSE
SUMMARY:Logan County Ducks Unlimited
DESCRIPTION:Come out and enjoy a good time and support the local Ducks Unlimited. Lots of games and prizes will be giving away. Also we will be drawing a name for the winner of our 6x10 ramp trailer that we have up for sale. We are selling Chances on the Trailer.
X-ALT-DESC;FMTTYPE=text/html:Come out and enjoy a good time and support the local Ducks Unlimited. Lots of games and prizes will be giving away. Also we will be drawing a name for the winner of our 6x10 ramp trailer that we have up for sale. We are selling Chances on the Trailer.
LOCATION:Logan County Fairgrounds Paris\, AR. 72855
UID:e.2208.1898
SEQUENCE:3
DTSTAMP:20260422T055531Z
URL:https://business.parisarkansas.com/events/details/logan-county-ducks-unlimited-09-24-2016-1898
END:VEVENT

END:VCALENDAR
