BEGIN:VCALENDAR
VERSION:2.0
PRODID:-//ChamberMaster//Event Calendar 2.0//EN
METHOD:PUBLISH
X-PUBLISHED-TTL:P3D
REFRESH-INTERVAL:P3D
CALSCALE:GREGORIAN
BEGIN:VEVENT
DTSTART;VALUE=DATE:20150225
DTEND;VALUE=DATE:20150226
TRANSP:TRANSPARENT
X-MICROSOFT-CDO-ALLDAYEVENT:TRUE
SUMMARY:Life Screening event at St Josephs
DESCRIPTION:Health screening for community
X-ALT-DESC;FMTTYPE=text/html:Health screening for community&nbsp\;&nbsp\;&nbsp\;&nbsp\;&nbsp\;
LOCATION:St Joseph's School
UID:e.2208.170
SEQUENCE:3
DTSTAMP:20260423T150259Z
URL:https://business.parisarkansas.com/events/details/life-screening-event-at-st-josephs-02-25-2015-170
END:VEVENT

END:VCALENDAR
