BEGIN:VCALENDAR
VERSION:2.0
PRODID:-//ChamberMaster//Event Calendar 2.0//EN
METHOD:PUBLISH
X-PUBLISHED-TTL:P3D
REFRESH-INTERVAL:P3D
CALSCALE:GREGORIAN
BEGIN:VEVENT
DTSTART:20190307T230000Z
DTEND:20190308T020000Z
X-MICROSOFT-CDO-ALLDAYEVENT:FALSE
SUMMARY:Ladies Night Out- March
DESCRIPTION:Ladies Night is a night we use to celebrate Ladies! Grab your pals and gals and join us in downtown Paris\, AR where you can get some great deals from 5 - 8 p.m. Shop at some of our delightful stores with the Girls. \n\n\n\nGo Ahead! You deserve it! Take a night out with the ladies March 7th where you can experience great deals and an awesome time\, and as always\, with a great community. We look forward to seeing you!
X-ALT-DESC;FMTTYPE=text/html:Ladies Night is a night we use to celebrate Ladies! Grab your pals and gals and join us in downtown Paris\, AR where you can get some great deals from 5 - 8 p.m. Shop at some of our delightful stores with the Girls.&nbsp\;<br />\n<br />\nGo Ahead! You deserve it! Take a night out with the ladies March 7th where you can experience great deals and an awesome time\, and as always\, with a great community. We look forward to seeing you!
LOCATION:Downtown Paris\, AR around the courthouse square.
UID:e.2208.2281
SEQUENCE:3
DTSTAMP:20260420T044429Z
URL:https://business.parisarkansas.com/events/details/ladies-night-out-march-2281
END:VEVENT

END:VCALENDAR
