BEGIN:VCALENDAR
VERSION:2.0
PRODID:-//ChamberMaster//Event Calendar 2.0//EN
METHOD:PUBLISH
X-PUBLISHED-TTL:P3D
REFRESH-INTERVAL:P3D
CALSCALE:GREGORIAN
BEGIN:VEVENT
DTSTART:20150402T160000Z
DTEND:20150402T210000Z
X-MICROSOFT-CDO-ALLDAYEVENT:FALSE
SUMMARY:JOB FAIR-PARIS
DESCRIPTION:Area businesses will be taking resumes and applications. Area Agency on Aging\, Cloyes Gear \, Arvest Bank\, Paris Health and Rehab and Paris School District are hiring for a large variety of job openings.
X-ALT-DESC;FMTTYPE=text/html:Area businesses will be taking resumes and applications. Area Agency on Aging\,&nbsp\;Cloyes Gear&nbsp\;\, Arvest Bank\, Paris Health and Rehab&nbsp\;and Paris School District are hiring for a large variety of job openings.&nbsp\;
LOCATION:First National Bank Community Center
UID:e.2208.198
SEQUENCE:3
DTSTAMP:20260423T092627Z
URL:https://business.parisarkansas.com/events/details/job-fair-paris-04-02-2015-198
END:VEVENT

END:VCALENDAR
