BEGIN:VCALENDAR
VERSION:2.0
PRODID:-//ChamberMaster//Event Calendar 2.0//EN
METHOD:PUBLISH
X-PUBLISHED-TTL:P3D
REFRESH-INTERVAL:P3D
CALSCALE:GREGORIAN
BEGIN:VEVENT
DTSTART;VALUE=DATE:20161210
DTEND;VALUE=DATE:20161211
TRANSP:TRANSPARENT
X-MICROSOFT-CDO-ALLDAYEVENT:TRUE
SUMMARY:Horse and Buggy Rides
DESCRIPTION:Come and enjoy a nice relaxing evening full of Christmas lights while taking a Horse and Buggy Ride! Want a nice romantic evening with your loved one or a family outing this is something for the entire family! Every Saturday in December!
X-ALT-DESC;FMTTYPE=text/html:Come and enjoy a nice relaxing evening full of Christmas lights while taking a Horse and Buggy Ride! Want a nice romantic evening with your loved one or a family outing this is something for the entire family! Every Saturday in December!&nbsp\;
LOCATION:
UID:e.2208.1882
SEQUENCE:3
DTSTAMP:20260422T023432Z
URL:https://business.parisarkansas.com/events/details/horse-and-buggy-rides-12-10-2016-1882
END:VEVENT

END:VCALENDAR
