BEGIN:VCALENDAR
VERSION:2.0
PRODID:-//ChamberMaster//Event Calendar 2.0//EN
METHOD:PUBLISH
X-PUBLISHED-TTL:P3D
REFRESH-INTERVAL:P3D
CALSCALE:GREGORIAN
BEGIN:VEVENT
DTSTART;VALUE=DATE:20190301
DTEND;VALUE=DATE:20190601
TRANSP:TRANSPARENT
X-MICROSOFT-CDO-ALLDAYEVENT:TRUE
SUMMARY:Great American Cleanup
DESCRIPTION:As part of the annual Keep America Beautiful  Great American Cleanup \, the Keep Arkansas Beautiful Commission (KAB) invites Arkansans to organize or volunteer in a local cleanup between March 1 and May 31. Communities and groups are invited to sign up to organize a local cleanup this year at https://bit.ly/KABSignUp. Cleanup organizers can use KAB's free\, print-ready promotional items to help recruit volunteers and learn how to organize a cleanup. Resources are available at http://bit.ly/KABClean. Volunteers can find local cleanups on the calendar of events at http://bit.ly/KABevnt. The Great American Cleanup in Arkansas runs March through May.
X-ALT-DESC;FMTTYPE=text/html:As part of the annual Keep America Beautiful&trade\; Great American Cleanup&reg\;\, the Keep Arkansas Beautiful Commission (KAB) invites Arkansans to organize or volunteer in a local cleanup between March 1 and May 31. Communities and groups are invited to sign up to organize a local cleanup this year at https://bit.ly/KABSignUp. Cleanup organizers can use KAB&rsquo\;s free\, print-ready promotional items to help recruit volunteers and learn how to organize a cleanup. Resources are available at http://bit.ly/KABClean. Volunteers can find local cleanups on the calendar of events at http://bit.ly/KABevnt. The Great American Cleanup in Arkansas runs March through May.
LOCATION:Statewide\, Various Locations Paris hosts Keep Paris Beautiful on April 27\,2019
UID:e.2208.2286
SEQUENCE:3
DTSTAMP:20260420T042501Z
URL:https://business.parisarkansas.com/events/details/great-american-cleanup-2286
END:VEVENT

END:VCALENDAR
