BEGIN:VCALENDAR
VERSION:2.0
PRODID:-//ChamberMaster//Event Calendar 2.0//EN
METHOD:PUBLISH
X-PUBLISHED-TTL:P3D
REFRESH-INTERVAL:P3D
CALSCALE:GREGORIAN
BEGIN:VEVENT
DTSTART:20150809T010000Z
DTEND:20150809T050000Z
X-MICROSOFT-CDO-ALLDAYEVENT:FALSE
SUMMARY:Gary Watts-Mt. Magazine NWTF Banquet
DESCRIPTION:The Gary Watts-Mt. Magazine National Wild Turkey Federation Chapter Hunting Heritage Banquet will be August 8th\, 2015. Doors open at 6pm and Dinner starts at 7pm. There will be a raffle\, silent auction\, and live auction. Tickets can be purchased in advance or at the door.
X-ALT-DESC;FMTTYPE=text/html:The Gary Watts-Mt. Magazine National Wild Turkey Federation Chapter Hunting Heritage Banquet will be August 8th\, 2015. Doors open at 6pm and Dinner starts at 7pm. There will be a raffle\, silent auction\, and live auction. Tickets can be purchased in advance or at the door.
LOCATION:1st National Bank Community Center in Paris\, AR
UID:e.2208.747
SEQUENCE:3
DTSTAMP:20260423T063748Z
URL:https://business.parisarkansas.com/events/details/gary-watts-mt-magazine-nwtf-banquet-08-08-2015-747
END:VEVENT

END:VCALENDAR
