BEGIN:VCALENDAR
VERSION:2.0
PRODID:-//ChamberMaster//Event Calendar 2.0//EN
METHOD:PUBLISH
X-PUBLISHED-TTL:P3D
REFRESH-INTERVAL:P3D
CALSCALE:GREGORIAN
BEGIN:VEVENT
DTSTART:20151003T130000Z
DTEND:20151003T180000Z
X-MICROSOFT-CDO-ALLDAYEVENT:FALSE
SUMMARY:Frontier Day Pancake Breakfast
DESCRIPTION:The Paris High School Band has been invited to perform at Disney World during Spring Break 2016. Each band member must raise $800.00 to be able to attend. The pancake breakfast is being hosted by the Band Boosters in an effort help the band members go to Disney World for this once in a lifetime opportunity. You support is greatly appreciated.
X-ALT-DESC;FMTTYPE=text/html:The Paris High School Band has been invited to perform at Disney World during Spring Break 2016. Each band member must raise $800.00 to be able to attend. The pancake breakfast is being hosted by the Band Boosters in an effort help the band members go to Disney World for this once in a lifetime opportunity. You support is greatly appreciated.
LOCATION:Paris First United Methodist Church
UID:e.2208.958
SEQUENCE:3
DTSTAMP:20260423T033235Z
URL:https://business.parisarkansas.com/events/details/frontier-day-pancake-breakfast-10-03-2015-958
END:VEVENT

END:VCALENDAR
