BEGIN:VCALENDAR
VERSION:2.0
PRODID:-//ChamberMaster//Event Calendar 2.0//EN
METHOD:PUBLISH
X-PUBLISHED-TTL:P3D
REFRESH-INTERVAL:P3D
CALSCALE:GREGORIAN
BEGIN:VEVENT
DTSTART:20261003T140000Z
DTEND:20261003T210000Z
X-MICROSOFT-CDO-ALLDAYEVENT:FALSE
SUMMARY:Frontier Day Festival
DESCRIPTION:Where yesterday meets today for a day in Paris Arkansas! Join us in downtown Paris on October 3rd for the 47th annual Frontier Day Festival! The parade starts at 9:00 a.m. and the festival opens at 10:00 a.m.
X-ALT-DESC;FMTTYPE=text/html:Where yesterday meets today for a day in Paris Arkansas! Join us in downtown Paris on October 3rd for the 47th annual Frontier Day Festival! The parade starts at 9:00 a.m. and the festival opens at 10:00 a.m.&nbsp\;
LOCATION:Located in Downtown Paris 12 North Express Street Paris\, AR 72855
UID:e.2208.3265
SEQUENCE:3
DTSTAMP:20260420T024554Z
URL:https://business.parisarkansas.com/events/details/frontier-day-festival-3265
END:VEVENT

END:VCALENDAR
