BEGIN:VCALENDAR
VERSION:2.0
PRODID:-//ChamberMaster//Event Calendar 2.0//EN
METHOD:PUBLISH
X-PUBLISHED-TTL:P3D
REFRESH-INTERVAL:P3D
CALSCALE:GREGORIAN
BEGIN:VEVENT
DTSTART:20170627T230000Z
DTEND:20170628T010000Z
X-MICROSOFT-CDO-ALLDAYEVENT:FALSE
SUMMARY:Foster Care Meetings
DESCRIPTION:FOSTER CARE MEETING
X-ALT-DESC;FMTTYPE=text/html:<u><strong>FOSTER CARE MEETING</strong></u>
LOCATION:Foster Care Meeting
UID:e.2208.1975
SEQUENCE:3
DTSTAMP:20260421T180521Z
URL:https://business.parisarkansas.com/events/details/foster-care-meetings-1975
END:VEVENT

END:VCALENDAR
