BEGIN:VCALENDAR
VERSION:2.0
PRODID:-//ChamberMaster//Event Calendar 2.0//EN
METHOD:PUBLISH
X-PUBLISHED-TTL:P3D
REFRESH-INTERVAL:P3D
CALSCALE:GREGORIAN
BEGIN:VEVENT
DTSTART:20150302T150000Z
DTEND:20150314T000000Z
X-MICROSOFT-CDO-ALLDAYEVENT:FALSE
SUMMARY:Food Drive for COS
DESCRIPTION:Area Agency on Aging in Paris doing a food drive to help support COS
X-ALT-DESC;FMTTYPE=text/html:Area Agency on Aging in Paris doing a food drive to help support COS
LOCATION:333 South 1st Street Paris\, AR 72855
UID:e.2208.172
SEQUENCE:3
DTSTAMP:20260423T131621Z
URL:https://business.parisarkansas.com/events/details/food-drive-for-cos-03-02-2015-172
END:VEVENT

END:VCALENDAR
