BEGIN:VCALENDAR
VERSION:2.0
PRODID:-//ChamberMaster//Event Calendar 2.0//EN
METHOD:PUBLISH
X-PUBLISHED-TTL:P3D
REFRESH-INTERVAL:P3D
CALSCALE:GREGORIAN
BEGIN:VEVENT
DTSTART:20150614T210000Z
DTEND:20150614T230000Z
X-MICROSOFT-CDO-ALLDAYEVENT:FALSE
SUMMARY:Flag Retirement
DESCRIPTION:The Boy/Cub Scouts are hosting a Flag Retirement Ceremony. This will be a full Flag Official Ceremony. If you have a flag that needs to be retired\, you may bring it and we will be happy to retire it for you. This is a public event and would like to invite the entire community and surrounding areas. We will be serving drinks and a snack.
X-ALT-DESC;FMTTYPE=text/html:The Boy/Cub Scouts are hosting a Flag Retirement Ceremony. This will be a full Flag Official Ceremony. If you have a flag that needs to be retired\, you may bring it and we will be happy to retire it for you. This is a public event and would like to invite the entire community and surrounding areas. We will be serving drinks and a snack.
LOCATION:Boy/Cub Scout Hut/Legion Hut 100 Legion Hut road
UID:e.2208.727
SEQUENCE:3
DTSTAMP:20260423T081123Z
URL:https://business.parisarkansas.com/events/details/flag-retirement-06-14-2015-727
END:VEVENT

END:VCALENDAR
