BEGIN:VCALENDAR
VERSION:2.0
PRODID:-//ChamberMaster//Event Calendar 2.0//EN
METHOD:PUBLISH
X-PUBLISHED-TTL:P3D
REFRESH-INTERVAL:P3D
CALSCALE:GREGORIAN
BEGIN:VEVENT
DTSTART:20260704T000000Z
DTEND:20260704T030000Z
X-MICROSOFT-CDO-ALLDAYEVENT:FALSE
SUMMARY:Fireworks Over Paris
DESCRIPTION:Fireworks Over Paris on July 3\, 2026. Music will start at 7:00 p.m. and fireworks will begin around dusk. Come enjoy live music\, fireworks\, food and vendors! \n\nFireworks\n\nFood Trucks \n\nKids Zone\n\nVendors
X-ALT-DESC;FMTTYPE=text/html:Fireworks Over Paris on July 3\, 2026. Music will start at 7:00 p.m. and fireworks will begin around dusk. Come enjoy live music\, fireworks\, food and vendors!&nbsp\;<br />\nFireworks<br />\nFood Trucks&nbsp\;<br />\nKids Zone<br />\nVendors&nbsp\; &nbsp\;
LOCATION:Wood Street Park
UID:e.2208.3266
SEQUENCE:3
DTSTAMP:20260419T234940Z
URL:https://business.parisarkansas.com/events/details/fireworks-over-paris-3266
END:VEVENT

END:VCALENDAR
