BEGIN:VCALENDAR
VERSION:2.0
PRODID:-//ChamberMaster//Event Calendar 2.0//EN
METHOD:PUBLISH
X-PUBLISHED-TTL:P3D
REFRESH-INTERVAL:P3D
CALSCALE:GREGORIAN
BEGIN:VEVENT
DTSTART:20150228T000000Z
DTEND:20150228T020000Z
X-MICROSOFT-CDO-ALLDAYEVENT:FALSE
SUMMARY:Family movie night
DESCRIPTION:FREE movie night
X-ALT-DESC;FMTTYPE=text/html:FREE movie night&nbsp\;&nbsp\;&nbsp\;&nbsp\;&nbsp\;
LOCATION:Paris Middle School
UID:e.2208.166
SEQUENCE:3
DTSTAMP:20260423T150446Z
URL:https://business.parisarkansas.com/events/details/family-movie-night-02-27-2015-166
END:VEVENT

END:VCALENDAR
