BEGIN:VCALENDAR
VERSION:2.0
PRODID:-//ChamberMaster//Event Calendar 2.0//EN
METHOD:PUBLISH
X-PUBLISHED-TTL:P3D
REFRESH-INTERVAL:P3D
CALSCALE:GREGORIAN
BEGIN:VEVENT
DTSTART:20151014T010000Z
DTEND:20151014T030000Z
X-MICROSOFT-CDO-ALLDAYEVENT:FALSE
SUMMARY:Fall Single Parent Awards Event
DESCRIPTION:Logan Co. Single Parent Scholarship Fund Fall 2015 Awards Event will present each single parent scholar with fall scholarship.
X-ALT-DESC;FMTTYPE=text/html:Logan Co. Single Parent Scholarship Fund Fall 2015 Awards Event will present each single parent scholar with fall scholarship.
LOCATION:First National Bank Community Center 11 E. Main\, Paris\, AR 72855
UID:e.2208.735
SEQUENCE:3
DTSTAMP:20260423T020238Z
URL:https://business.parisarkansas.com/events/details/fall-single-parent-awards-event-10-13-2015-735
END:VEVENT

END:VCALENDAR
