BEGIN:VCALENDAR
VERSION:2.0
PRODID:-//ChamberMaster//Event Calendar 2.0//EN
METHOD:PUBLISH
X-PUBLISHED-TTL:P3D
REFRESH-INTERVAL:P3D
CALSCALE:GREGORIAN
BEGIN:VEVENT
DTSTART:20161031T210000Z
DTEND:20161101T000000Z
X-MICROSOFT-CDO-ALLDAYEVENT:FALSE
SUMMARY:Fall Festival/ Merchants trick-o-treat
DESCRIPTION:Fall Festival will be held around the square as a free family event. There will be bounce houses from Logan County Glass and Mirror\, Cotton Candy from Ameriprise\, Hot dogs from Arvest\, Photos from Paris Realty and Horse and Buggy rides from Island Cowgirl. Plus games will be set up all around the courthouse from several merchants giving out candy. The music will be going to set the mood and we will have a costume parade at the Eiffel Tower Stage at 5pm to show off all the little cuties!
X-ALT-DESC;FMTTYPE=text/html:Fall Festival will be held around the square as a free family event. There will be bounce houses from Logan County Glass and Mirror\, Cotton Candy from Ameriprise\, Hot dogs from Arvest\, Photos from Paris Realty and Horse and Buggy rides from Island Cowgirl. Plus games will be set up all around the courthouse from several merchants giving out candy. The music will be going to set the mood and we will have a costume parade at the Eiffel Tower Stage at 5pm to show off all the little cuties!&nbsp\;
LOCATION:Eiffel Tower Park and Court house square.
UID:e.2208.1864
SEQUENCE:3
DTSTAMP:20260422T042449Z
URL:https://business.parisarkansas.com/events/details/fall-festival-merchants-trick-o-treat-10-31-2016-1864
END:VEVENT

END:VCALENDAR
