BEGIN:VCALENDAR
VERSION:2.0
PRODID:-//ChamberMaster//Event Calendar 2.0//EN
METHOD:PUBLISH
X-PUBLISHED-TTL:P3D
REFRESH-INTERVAL:P3D
CALSCALE:GREGORIAN
BEGIN:VEVENT
DTSTART:20150901T190000Z
DTEND:20150901T190000Z
X-MICROSOFT-CDO-ALLDAYEVENT:FALSE
SUMMARY:Fall 2015 Single Parent Scholarship Applications DUE
DESCRIPTION:Fall 2015 Logan Co. Single Parent Scholarship Fund Applications are due on 9/1/2015
X-ALT-DESC;FMTTYPE=text/html:Fall 2015 Logan Co. Single Parent Scholarship Fund Applications are due on 9/1/2015
LOCATION:
UID:e.2208.734
SEQUENCE:3
DTSTAMP:20260423T045715Z
URL:https://business.parisarkansas.com/events/details/fall-2015-single-parent-scholarship-applications-due-09-01-2015-734
END:VEVENT

END:VCALENDAR
