BEGIN:VCALENDAR
VERSION:2.0
PRODID:-//ChamberMaster//Event Calendar 2.0//EN
METHOD:PUBLISH
X-PUBLISHED-TTL:P3D
REFRESH-INTERVAL:P3D
CALSCALE:GREGORIAN
BEGIN:VEVENT
DTSTART;VALUE=DATE:20150701
DTEND;VALUE=DATE:20150902
TRANSP:TRANSPARENT
X-MICROSOFT-CDO-ALLDAYEVENT:TRUE
SUMMARY:Fall 2015 Single Parent Schlorship Applications OPEN
DESCRIPTION:Logan Co. Single Parent Scholarship Fund applications available for fall 2015 semester post-secondary education.
X-ALT-DESC;FMTTYPE=text/html:Logan Co. Single Parent Scholarship Fund applications available for fall 2015 semester post-secondary education.
LOCATION:
UID:e.2208.732
SEQUENCE:3
DTSTAMP:20260423T034352Z
URL:https://business.parisarkansas.com/events/details/fall-2015-single-parent-schlorship-applications-open-07-01-2015-732
END:VEVENT

END:VCALENDAR
