BEGIN:VCALENDAR
VERSION:2.0
PRODID:-//ChamberMaster//Event Calendar 2.0//EN
METHOD:PUBLISH
X-PUBLISHED-TTL:P3D
REFRESH-INTERVAL:P3D
CALSCALE:GREGORIAN
BEGIN:VEVENT
DTSTART:20190311T180000Z
DTEND:20190311T190000Z
X-MICROSOFT-CDO-ALLDAYEVENT:FALSE
SUMMARY:Economic Development Council Meeting
DESCRIPTION:ED committee meets once per month in the city council room at city hall to discuss ED growth and opportunity.
X-ALT-DESC;FMTTYPE=text/html:ED committee meets once per month in the city council room at city hall to discuss ED growth and opportunity.&nbsp\;
LOCATION:City Hall
UID:e.2208.508
SEQUENCE:3
DTSTAMP:20260420T044634Z
URL:https://business.parisarkansas.com/events/details/economic-development-council-meeting-03-18-2019-508
END:VEVENT

END:VCALENDAR
