BEGIN:VCALENDAR
VERSION:2.0
PRODID:-//ChamberMaster//Event Calendar 2.0//EN
METHOD:PUBLISH
X-PUBLISHED-TTL:P3D
REFRESH-INTERVAL:P3D
CALSCALE:GREGORIAN
BEGIN:VEVENT
DTSTART:20170311T150000Z
DTEND:20170311T180000Z
X-MICROSOFT-CDO-ALLDAYEVENT:FALSE
SUMMARY:Diamondback March Color Run/Walk
DESCRIPTION:Color Run Sponsored by Paris Ford. The event was created by Carlee Parrish\, an 8th grader at Magazine High School\, For and EAST project and an FBLA fundraiser. (she is the District I President. ALL PROCEEDS WILL GO TO MARCH OF DIMES!
X-ALT-DESC;FMTTYPE=text/html:Color Run Sponsored by Paris Ford. The event was created by Carlee Parrish\, an 8th grader at Magazine High School\, For and EAST project and an FBLA fundraiser. (she is the District I President. ALL PROCEEDS WILL GO TO MARCH OF DIMES!
LOCATION:CC Course\, behind football field in Magazine
UID:e.2208.1923
SEQUENCE:3
DTSTAMP:20260421T213257Z
URL:https://business.parisarkansas.com/events/details/diamondback-march-color-run-walk-1923
END:VEVENT

END:VCALENDAR
