BEGIN:VCALENDAR
VERSION:2.0
PRODID:-//ChamberMaster//Event Calendar 2.0//EN
METHOD:PUBLISH
X-PUBLISHED-TTL:P3D
REFRESH-INTERVAL:P3D
CALSCALE:GREGORIAN
BEGIN:VEVENT
DTSTART:20150613T153000Z
DTEND:20150613T170000Z
X-MICROSOFT-CDO-ALLDAYEVENT:FALSE
SUMMARY:Cove Lake Fishing Derby
DESCRIPTION:It's time for our annual Cove Lake Fishing Derby! It's for ages 2-9 and pre-registrations is required. You can pick up a registration form either at the US Forest Service Office or the Chamber of Commerce. We must have the forms by June 10. Awards will be given out for the heaviest two fish with first through third place in the age group of two to five and six to nine\, for the smallest fish\, and for the Albino or tagged fish and there will also be numerous random prizes as well.
X-ALT-DESC;FMTTYPE=text/html:It&#39\;s time for our annual Cove Lake Fishing Derby! It&#39\;s for ages 2-9 and pre-registrations is required. You can pick up a registration form either at the US Forest Service Office or the Chamber of Commerce. We must have the forms by June 10. Awards will be given out for the heaviest two fish with first through third place in the age group of two to five and six to nine\, for the smallest fish\, and for the Albino or tagged fish and there will also be numerous random prizes as well.
LOCATION:Cove Lake Recreation Area
UID:e.2208.740
SEQUENCE:3
DTSTAMP:20260423T081951Z
URL:https://business.parisarkansas.com/events/details/cove-lake-fishing-derby-06-13-2015-740
END:VEVENT

END:VCALENDAR
