BEGIN:VCALENDAR
VERSION:2.0
PRODID:-//ChamberMaster//Event Calendar 2.0//EN
METHOD:PUBLISH
X-PUBLISHED-TTL:P3D
REFRESH-INTERVAL:P3D
CALSCALE:GREGORIAN
BEGIN:VEVENT
DTSTART:20191201T000000Z
DTEND:20191201T010000Z
X-MICROSOFT-CDO-ALLDAYEVENT:FALSE
SUMMARY:Courthouse Lighting Ceremony & Christmas Parade
DESCRIPTION:Bring family and friends and gather around the Square as we watch the Annual Paris Christmas Parade & Lighting Ceremony!\n\nTis' the Season in #ParisAR !\n\nCome get festive & progressive in our Holiday Spirit!!
X-ALT-DESC;FMTTYPE=text/html:Bring family and friends and gather around the Square as we watch the Annual Paris Christmas Parade &amp\; Lighting Ceremony!<br />\nTis&#39\; the Season in #ParisAR !<br />\nCome get festive &amp\; progressive in our Holiday Spirit!!&nbsp\;
LOCATION:Downtown Paris from AAM (formally Cloyes to Subway)
UID:e.2208.1873
SEQUENCE:3
DTSTAMP:20260419T153330Z
URL:https://business.parisarkansas.com/events/details/courthouse-lighting-ceremony-christmas-parade-1873
END:VEVENT

END:VCALENDAR
