BEGIN:VCALENDAR
VERSION:2.0
PRODID:-//ChamberMaster//Event Calendar 2.0//EN
METHOD:PUBLISH
X-PUBLISHED-TTL:P3D
REFRESH-INTERVAL:P3D
CALSCALE:GREGORIAN
BEGIN:VEVENT
DTSTART:20180815T130000Z
DTEND:20180819T020000Z
X-MICROSOFT-CDO-ALLDAYEVENT:FALSE
SUMMARY:County Fair Vendor Booths
DESCRIPTION:Vendor Booths available for crafts\, wares\, and services. Air Conditioned Exhibit Hall (outdoors available upon request) Applications for booth space available now
X-ALT-DESC;FMTTYPE=text/html:Vendor Booths available for crafts\, wares\, and services. Air Conditioned Exhibit Hall (outdoors available upon request) Applications for booth space available now
LOCATION:Logan County Fair Grounds Hwy 22 East & Airport Industrial Road
UID:e.2208.2261
SEQUENCE:3
DTSTAMP:20260420T185642Z
URL:https://business.parisarkansas.com/events/details/county-fair-vendor-booths-2261
END:VEVENT

END:VCALENDAR
