BEGIN:VCALENDAR
VERSION:2.0
PRODID:-//ChamberMaster//Event Calendar 2.0//EN
METHOD:PUBLISH
X-PUBLISHED-TTL:P3D
REFRESH-INTERVAL:P3D
CALSCALE:GREGORIAN
BEGIN:VEVENT
DTSTART:20151116T010000Z
DTEND:20151116T020000Z
X-MICROSOFT-CDO-ALLDAYEVENT:FALSE
SUMMARY:Community Thanksgiving Celebration
DESCRIPTION:The North Logan County Ministerial Alliance Will be hosting the Annual Thanksgiving Celebration. This Year we will be Honoring Our Local Law Enforcement and Firefighters.
X-ALT-DESC;FMTTYPE=text/html:The North Logan County Ministerial Alliance Will be hosting the Annual Thanksgiving Celebration. This Year we will be Honoring Our Local Law Enforcement and Firefighters.
LOCATION:First United Methodist Church Paris Arkansas
UID:e.2208.964
SEQUENCE:3
DTSTAMP:20260423T020227Z
URL:https://business.parisarkansas.com/events/details/community-thanksgiving-celebration-11-15-2015-964
END:VEVENT

END:VCALENDAR
