BEGIN:VCALENDAR
VERSION:2.0
PRODID:-//ChamberMaster//Event Calendar 2.0//EN
METHOD:PUBLISH
X-PUBLISHED-TTL:P3D
REFRESH-INTERVAL:P3D
CALSCALE:GREGORIAN
BEGIN:VEVENT
DTSTART:20161204T220000Z
DTEND:20161205T000000Z
X-MICROSOFT-CDO-ALLDAYEVENT:FALSE
SUMMARY:Community Messiah Sing Along
DESCRIPTION:Join fellow community members celebrating the holidays as we sing along with Herr Handel's Messiah\, the best loved Christmas music of all time! Copies of the music will be available.
X-ALT-DESC;FMTTYPE=text/html:Join fellow community members celebrating the holidays as we sing along with Herr Handel&#39\;s Messiah\, the best loved Christmas music of all time! Copies of the music will be available.
LOCATION:Paris Middle School Auditorium
UID:e.2208.1916
SEQUENCE:3
DTSTAMP:20260422T022808Z
URL:https://business.parisarkansas.com/events/details/community-messiah-sing-along-1916
END:VEVENT

END:VCALENDAR
