BEGIN:VCALENDAR
VERSION:2.0
PRODID:-//ChamberMaster//Event Calendar 2.0//EN
METHOD:PUBLISH
X-PUBLISHED-TTL:P3D
REFRESH-INTERVAL:P3D
CALSCALE:GREGORIAN
BEGIN:VEVENT
DTSTART:20170608T123000Z
DTEND:20170608T133000Z
X-MICROSOFT-CDO-ALLDAYEVENT:FALSE
SUMMARY:Coffee and Donuts @ Cooper Clinic
DESCRIPTION:Each Month we host a FREE coffee and donuts meet and greet with a chamber member from 8:30 am to 9:30 am. This is open to the public as a way to learn more about the host business\, network with customers\, learn about community events and help us recognize our spotlight business of the month.  We are thrilled with the participation at this event each month and hope to see you there.  A smile and a handshake will go a long way \, do you have time to grow your business?
X-ALT-DESC;FMTTYPE=text/html:<span style="color: rgb(102\, 102\, 102)\; font-family: Helvetica\, arial\, sans-serif\; font-size: 16px\; line-height: 20.8px\; background-color: rgb(255\, 255\, 255)\;">Each Month we host a FREE coffee and donuts meet and greet with a chamber member from 8:30 am to 9:30 am. This is open to the public as a way to learn more about the host&nbsp\;business\, network with customers\, learn about community events&nbsp\;and help us recognize our spotlight business of the month. &nbsp\;We are thrilled with the participation at this event each month and hope to see you there. &nbsp\;A smile and a handshake will go a long way \, do you have time to grow your business?&nbsp\;</span>
LOCATION:July 13th - Shelter Insurance Aug 10th - Ameriprise Sept 14th - PSD Oct 12th - Air Evac Nov 9th - Roller Funeral Home
UID:e.2208.997
SEQUENCE:3
DTSTAMP:20260421T162803Z
URL:https://business.parisarkansas.com/events/details/coffee-and-donuts-cooper-clinic-997
END:VEVENT

END:VCALENDAR
