BEGIN:VCALENDAR
VERSION:2.0
PRODID:-//ChamberMaster//Event Calendar 2.0//EN
METHOD:PUBLISH
X-PUBLISHED-TTL:P3D
REFRESH-INTERVAL:P3D
CALSCALE:GREGORIAN
BEGIN:VEVENT
DTSTART:20151210T133000Z
DTEND:20151210T143000Z
X-MICROSOFT-CDO-ALLDAYEVENT:FALSE
SUMMARY:Coffee and Donuts
DESCRIPTION:Free coffee and donuts each month hosted by a different business. Allows business to high light any programs or benefits they offer. Each month we will recognize a business of the month as nominated by the public and chosen by the chamber board.
X-ALT-DESC;FMTTYPE=text/html:Free coffee and donuts each month hosted by a different business. Allows business to high light any programs or benefits they offer. Each month we will recognize a business of the month as nominated by the public and chosen&nbsp\;by the chamber board.
LOCATION:Location each month Business of the month January- The Grapevine Restaurant February- COS Paris School District March- Mercy Hospital Community Outreach Center April- Paris School District Ed Williams Body Shop May- Paris Realty Island Cowgirl Boutique June-Wells Fargo Advisors July- Hollyhocks August- Castle Graphics September-Area Agency on Aging October- 1st National Bank November -ARVAC December- Ameriprise
UID:e.2208.164
SEQUENCE:3
DTSTAMP:20260422T223740Z
URL:https://business.parisarkansas.com/events/details/coffee-and-donuts-12-10-2015-164
END:VEVENT

END:VCALENDAR
