BEGIN:VCALENDAR
VERSION:2.0
PRODID:-//ChamberMaster//Event Calendar 2.0//EN
METHOD:PUBLISH
X-PUBLISHED-TTL:P3D
REFRESH-INTERVAL:P3D
CALSCALE:GREGORIAN
BEGIN:VEVENT
DTSTART;VALUE=DATE:20150420
DTEND;VALUE=DATE:20150424
TRANSP:TRANSPARENT
X-MICROSOFT-CDO-ALLDAYEVENT:TRUE
SUMMARY:City Wide Clean up- Paris
DESCRIPTION:City wide spring clean up will be the week of April 20-23rd.  City will not pick up tv's\,computers\,other electronics\, tires\, hazardous waste\, wet paint or oil. All tree limbs are asked to be facing the road.\n\nAll items put out for this event must come from you residence only. It is a violation of the law to put out any items from outside our city limits.\n\nWaste must be separated from other items\, and all items must be placed away from any utility services or equipment.
X-ALT-DESC;FMTTYPE=text/html:City wide spring clean up will be the week of April 20-23rd.&nbsp\;&nbsp\;City will not pick up tv&#39\;s\,computers\,other&nbsp\;electronics\, tires\, hazardous waste\, wet paint or oil. All tree limbs are asked to be facing the road.<br />\nAll items put out for this event must come from you residence only. It is a violation of the law to put out any items from outside our city limits.<br />\nWaste must be separated from other items\, and all items must be placed away from any utility services&nbsp\;or equipment.&nbsp\;
LOCATION:Your home at curb side by 7:30 am
UID:e.2208.199
SEQUENCE:3
DTSTAMP:20260423T092902Z
URL:https://business.parisarkansas.com/events/details/city-wide-clean-up-paris-04-20-2015-199
END:VEVENT

END:VCALENDAR
