BEGIN:VCALENDAR
VERSION:2.0
PRODID:-//ChamberMaster//Event Calendar 2.0//EN
METHOD:PUBLISH
X-PUBLISHED-TTL:P3D
REFRESH-INTERVAL:P3D
CALSCALE:GREGORIAN
BEGIN:VEVENT
DTSTART:20191124T190000Z
DTEND:20191124T230000Z
X-MICROSOFT-CDO-ALLDAYEVENT:FALSE
SUMMARY:Christmas Open House with Farm & Craft Market
DESCRIPTION:Merchants say thanks to customers by holding a Christmas preview of Holiday merchandise. Various retailers serve refreshments while you shop from 1-5 p.m. in the Paris Downtown Square and beyond. Santa will visit with children and giveaway a keepsake ornament to the first 50 Children!!!!
X-ALT-DESC;FMTTYPE=text/html:Merchants say thanks to customers by holding a Christmas preview of Holiday merchandise. Various retailers serve refreshments while you shop from 1-5 p.m. in the Paris Downtown Square and beyond.&nbsp\;<strong>Santa will visit with children and giveaway a keepsake ornament to the first 50 Children!!!!</strong>
LOCATION:Merchants participating include: Island Cowgirl\, Simply Christmas and More\, Little Shoppes on the Square\, JA Outfitters\, AllCare Pharmacy\, Paris Express\, Scott's on the Square\, Warren's Shoes and Wells Furniture . Plus the Farm and Craft Market at the Logan County Fair Grounds will host many vendors with craft beer\, fresh food\, baked goods\, crafts\, giftables and much more!
UID:e.2208.1890
SEQUENCE:3
DTSTAMP:20260419T190313Z
URL:https://business.parisarkansas.com/events/details/christmas-open-house-11-17-2019-1890
END:VEVENT

END:VCALENDAR
