BEGIN:VCALENDAR
VERSION:2.0
PRODID:-//ChamberMaster//Event Calendar 2.0//EN
METHOD:PUBLISH
X-PUBLISHED-TTL:P3D
REFRESH-INTERVAL:P3D
CALSCALE:GREGORIAN
BEGIN:VEVENT
DTSTART:20251123T190000Z
DTEND:20251123T230000Z
X-MICROSOFT-CDO-ALLDAYEVENT:FALSE
SUMMARY:Christmas Open House with Farm & Craft Market
DESCRIPTION:Merchants say thanks to customers by holding a Christmas preview of Holiday merchandise. Various retailers serve refreshments while you shop from 1-5 p.m. in the Paris Downtown Square and beyond. Santa will visit with children and giveaway a keepsake ornament to the first 50 Children!!!!
X-ALT-DESC;FMTTYPE=text/html:Merchants say thanks to customers by holding a Christmas preview of Holiday merchandise. Various retailers serve refreshments while you shop from 1-5 p.m. in the Paris Downtown Square and beyond.&nbsp\;<strong>Santa will visit with children and giveaway a keepsake ornament to the first 50 Children!!!!</strong>
LOCATION:
UID:e.2208.1896
SEQUENCE:3
DTSTAMP:20260420T013350Z
URL:https://business.parisarkansas.com/events/details/christmas-open-house-11-16-2025-1896
END:VEVENT

END:VCALENDAR
