BEGIN:VCALENDAR
VERSION:2.0
PRODID:-//ChamberMaster//Event Calendar 2.0//EN
METHOD:PUBLISH
X-PUBLISHED-TTL:P3D
REFRESH-INTERVAL:P3D
CALSCALE:GREGORIAN
BEGIN:VEVENT
DTSTART:20150926T140000Z
DTEND:20150926T160000Z
X-MICROSOFT-CDO-ALLDAYEVENT:FALSE
SUMMARY:Chili Cook Off- Farmers Market
DESCRIPTION:Chili Cook off with prizes! Must have 1 ingredient form the farmers market in your chili for bonus points.
X-ALT-DESC;FMTTYPE=text/html:Chili Cook off with prizes! Must have 1 ingredient form the farmers market in your chili for bonus points.&nbsp\;
LOCATION:Eiffel Tower Park
UID:e.2208.757
SEQUENCE:3
DTSTAMP:20260423T020525Z
URL:https://business.parisarkansas.com/events/details/chili-cook-off-farmers-market-09-26-2015-757
END:VEVENT

END:VCALENDAR
