BEGIN:VCALENDAR
VERSION:2.0
PRODID:-//ChamberMaster//Event Calendar 2.0//EN
METHOD:PUBLISH
X-PUBLISHED-TTL:P3D
REFRESH-INTERVAL:P3D
CALSCALE:GREGORIAN
BEGIN:VEVENT
DTSTART:20241119T220000Z
DTEND:20241119T230000Z
X-MICROSOFT-CDO-ALLDAYEVENT:FALSE
SUMMARY:Chamber Board Meeting
DESCRIPTION:
X-ALT-DESC;FMTTYPE=text/html:
LOCATION:301 W Walnut \, Chamber board room
UID:e.2208.124
SEQUENCE:3
DTSTAMP:20260419T133401Z
URL:https://business.parisarkansas.com/events/details/chamber-board-meeting-11-19-2024-124
END:VEVENT

END:VCALENDAR
