BEGIN:VCALENDAR
VERSION:2.0
PRODID:-//ChamberMaster//Event Calendar 2.0//EN
METHOD:PUBLISH
X-PUBLISHED-TTL:P3D
REFRESH-INTERVAL:P3D
CALSCALE:GREGORIAN
BEGIN:VEVENT
DTSTART:20170917T130000Z
DTEND:20170917T200000Z
X-MICROSOFT-CDO-ALLDAYEVENT:FALSE
SUMMARY:Boys and Girls Club of Paris GOLF TOURNAMENT
DESCRIPTION:3 person scramble $150 per team. 2 flight pay out\, Hole in Contest for a new golf cart.
X-ALT-DESC;FMTTYPE=text/html:3 person scramble $150 per team. 2 flight pay out\, Hole in Contest for a new golf cart.
LOCATION:Little Creek Golf Course\, Ratcliff\, AR
UID:e.2208.1900
SEQUENCE:3
DTSTAMP:20260421T114356Z
URL:https://business.parisarkansas.com/events/details/boys-and-girls-club-of-paris-golf-tournament-09-17-2017-1900
END:VEVENT

END:VCALENDAR
