BEGIN:VCALENDAR
VERSION:2.0
PRODID:-//ChamberMaster//Event Calendar 2.0//EN
METHOD:PUBLISH
X-PUBLISHED-TTL:P3D
REFRESH-INTERVAL:P3D
CALSCALE:GREGORIAN
BEGIN:VEVENT
DTSTART;VALUE=DATE:20190907
DTEND;VALUE=DATE:20190908
TRANSP:TRANSPARENT
X-MICROSOFT-CDO-ALLDAYEVENT:TRUE
SUMMARY:Boys and Girls Club Golf Tournament
DESCRIPTION:The Paris Boys and Girls Club is hosting it's annual golf tournament fundraiser. \n\nSponsors needed.\n\nTeams wanted.\n\nHole in One Contest
X-ALT-DESC;FMTTYPE=text/html:The Paris Boys and Girls Club is hosting it&#39\;s annual golf tournament fundraiser.&nbsp\;<br />\nSponsors needed.<br />\nTeams wanted.<br />\nHole in One Contest
LOCATION:Little Creek Golf Course-Ratcliff
UID:e.2208.2443
SEQUENCE:3
DTSTAMP:20260419T222944Z
URL:https://business.parisarkansas.com/events/details/boys-and-girls-club-golf-tournament-2443
END:VEVENT

END:VCALENDAR
