BEGIN:VCALENDAR
VERSION:2.0
PRODID:-//ChamberMaster//Event Calendar 2.0//EN
METHOD:PUBLISH
X-PUBLISHED-TTL:P3D
REFRESH-INTERVAL:P3D
CALSCALE:GREGORIAN
BEGIN:VEVENT
DTSTART;VALUE=DATE:20150610
DTEND;VALUE=DATE:20150611
TRANSP:TRANSPARENT
X-MICROSOFT-CDO-ALLDAYEVENT:TRUE
SUMMARY:Award Single Parent Summer Scholarships
DESCRIPTION:Logan Co. Single Parent Scholarship Fund will mail to scholars their summer scholarships
X-ALT-DESC;FMTTYPE=text/html:Logan Co. Single Parent Scholarship Fund will mail to scholars their summer scholarships
LOCATION:
UID:e.2208.731
SEQUENCE:3
DTSTAMP:20260423T081918Z
URL:https://business.parisarkansas.com/events/details/award-single-parent-summer-scholarships-06-10-2015-731
END:VEVENT

END:VCALENDAR
