BEGIN:VCALENDAR
VERSION:2.0
PRODID:-//ChamberMaster//Event Calendar 2.0//EN
METHOD:PUBLISH
X-PUBLISHED-TTL:P3D
REFRESH-INTERVAL:P3D
CALSCALE:GREGORIAN
BEGIN:VEVENT
DTSTART:20160407T130000Z
DTEND:20160408T010000Z
X-MICROSOFT-CDO-ALLDAYEVENT:FALSE
SUMMARY:Arkansas Day of Giving
DESCRIPTION:Help Maggie House by donating through ArkansasGives.org.\, a 12- hour online giving event sponsored by Arkansas Community Foundation. Minimum donation of $25 \, credit or debit only.
X-ALT-DESC;FMTTYPE=text/html:Help Maggie House by donating through ArkansasGives.org.\, a 12- hour online giving event sponsored by Arkansas Community Foundation. Minimum donation of $25 \, credit or debit only.
LOCATION:Online
UID:e.2208.1456
SEQUENCE:3
DTSTAMP:20260422T154905Z
URL:https://business.parisarkansas.com/events/details/arkansas-day-of-giving-04-07-2016-1456
END:VEVENT

END:VCALENDAR
