BEGIN:VCALENDAR
VERSION:2.0
PRODID:-//ChamberMaster//Event Calendar 2.0//EN
METHOD:PUBLISH
X-PUBLISHED-TTL:P3D
REFRESH-INTERVAL:P3D
CALSCALE:GREGORIAN
BEGIN:VEVENT
DTSTART:20160116T220000Z
DTEND:20160117T040000Z
X-MICROSOFT-CDO-ALLDAYEVENT:FALSE
SUMMARY:Annual Red Carpet Award Banquet
DESCRIPTION:The 71st Annual Red Carpet Awards banquet will be held Saturday January 16\,2016 at Mt Magazine State Park Lodge.  The Hospitality Suite will be open that evening from 5-6pm in the Tanager room on the second level above the banquet hall.  The banquet will begin at 6 pm with awards to follow.  Keynote speaker will be Johnny Key\, Arkansas Commissioner of Education. Eleven awards will be presented to deserving community leaders. The Tanager room will reopen after the banquet is over so you may go back to the Hospitality Suite for socializing. A photographer will be on site for guests who want their photos taken and will be available on the chamber's Facebook page to tag or print at your convenience.  You won't want to miss this fabulous evening of celebration.
X-ALT-DESC;FMTTYPE=text/html:The 71st Annual Red Carpet Awards banquet will be held Saturday January 16\,2016 at Mt Magazine State Park Lodge. &nbsp\;The Hospitality Suite will be open that evening from 5-6pm in the Tanager room on the second level above the banquet hall.&nbsp\; The banquet will begin at 6 pm with awards to follow. &nbsp\;Keynote speaker will be Johnny Key\, Arkansas Commissioner of Education. Eleven awards will be presented to deserving community leaders.&nbsp\;The Tanager room will reopen after the banquet is over so you may go back to the Hospitality Suite for socializing. A photographer will be on site for guests who want their photos taken and will be available on the chamber&rsquo\;s Facebook page to tag or print at your convenience. &nbsp\;You won&#39\;t want to miss this fabulous evening of celebration.&nbsp\;
LOCATION:Mount Magazine State Park Lodge
UID:e.2208.968
SEQUENCE:3
DTSTAMP:20260422T191919Z
URL:https://business.parisarkansas.com/events/details/annual-red-carpet-award-banquet-01-16-2016-968
END:VEVENT

END:VCALENDAR
