BEGIN:VCALENDAR
VERSION:2.0
PRODID:-//ChamberMaster//Event Calendar 2.0//EN
METHOD:PUBLISH
X-PUBLISHED-TTL:P3D
REFRESH-INTERVAL:P3D
CALSCALE:GREGORIAN
BEGIN:VEVENT
DTSTART:20170129T000000Z
DTEND:20170129T030000Z
X-MICROSOFT-CDO-ALLDAYEVENT:FALSE
SUMMARY:Annual Paris Area Chamber Awards Banquet
DESCRIPTION:Tickets are available at the Paris Area Chamber of Commerce. Price $50 479-963-2244
X-ALT-DESC;FMTTYPE=text/html:Tickets are available at the Paris Area Chamber of Commerce. Price $50 479-963-2244
LOCATION:Mount Magazine Lodge
UID:e.2208.1918
SEQUENCE:3
DTSTAMP:20260421T233154Z
URL:https://business.parisarkansas.com/events/details/annual-paris-area-chamber-awards-banquet-1918
END:VEVENT

END:VCALENDAR
