BEGIN:VCALENDAR
VERSION:2.0
PRODID:-//ChamberMaster//Event Calendar 2.0//EN
METHOD:PUBLISH
X-PUBLISHED-TTL:P3D
REFRESH-INTERVAL:P3D
CALSCALE:GREGORIAN
BEGIN:VEVENT
DTSTART:20170226T000000Z
DTEND:20170226T050000Z
X-MICROSOFT-CDO-ALLDAYEVENT:FALSE
SUMMARY:A Night at the Paris Casino\, Casino Night
DESCRIPTION:Come enjoy a fun filled night to benefit St Joseph School at the Paris Casino! Try your hand with Lady Luck on games such as Blackjack\, Roulette\, Craps\, Texas Hold'em\, High Hand and Horse Races. There will be live and silent auctions as well as gun raffles!
X-ALT-DESC;FMTTYPE=text/html:Come enjoy a fun filled night to benefit St Joseph School at the Paris Casino! Try your hand with Lady Luck on games such as Blackjack\, Roulette\, Craps\, Texas Hold&#39\;em\, High Hand and Horse Races. There will be live and silent auctions as well as gun raffles!
LOCATION:FNB Community Center 25 E Main Street - Paris\, Arkansas
UID:e.2208.1919
SEQUENCE:3
DTSTAMP:20260421T232047Z
URL:https://business.parisarkansas.com/events/details/a-night-at-the-paris-casino-casino-night-1919
END:VEVENT

END:VCALENDAR
